BEGIN:VCALENDAR
VERSION:2.0
PRODID:-//ChamberMaster//Event Calendar 2.0//EN
METHOD:PUBLISH
X-PUBLISHED-TTL:P1H
REFRESH-INTERVAL:P1H
CALSCALE:GREGORIAN
BEGIN:VTIMEZONE
TZID:America/New_York
BEGIN:DAYLIGHT
RRULE:FREQ=YEARLY;BYMONTH=3;BYDAY=2SU
DTSTART:20070101T000000
TZOFFSETFROM:-0500
TZOFFSETTO:-0400
TZNAME:Eastern Daylight Time
END:DAYLIGHT
BEGIN:STANDARD
RRULE:FREQ=YEARLY;BYMONTH=11;BYDAY=1SU
DTSTART:20070101T000000
TZOFFSETFROM:-0400
TZOFFSETTO:-0500
TZNAME:Eastern Standard Time
END:STANDARD
END:VTIMEZONE
BEGIN:VEVENT
DTSTART;TZID=America/New_York:20260917T173000
DTEND;TZID=America/New_York:20260917T193000
X-MICROSOFT-CDO-ALLDAYEVENT:FALSE
SUMMARY:2026 September PBYP Social
DESCRIPTION:Registration opens September 1st! More info coming soon!
X-ALT-DESC;FMTTYPE=text/html:<!DOCTYPE html><html><head><title></title></head><body aria-disabled="false"><p><em>Registration opens September 1st! More info coming soon!</em></p></body></html>
LOCATION:319 Clematis Street Suite 300 West Palm Beach FL 33401
UID:e.4263.1424871
SEQUENCE:3
DTSTAMP:20260421T023937Z
URL:https://members.palmbeachchamber.com/eventcalendar/Details/2026-september-pbyp-social-1684776?sourceTypeId=Hub
END:VEVENT
END:VCALENDAR
