BEGIN:VCALENDAR
VERSION:2.0
PRODID:-//ChamberMaster//Event Calendar 2.0//EN
METHOD:PUBLISH
X-PUBLISHED-TTL:P1H
REFRESH-INTERVAL:P1H
CALSCALE:GREGORIAN
BEGIN:VTIMEZONE
TZID:America/New_York
BEGIN:DAYLIGHT
RRULE:FREQ=YEARLY;BYMONTH=3;BYDAY=2SU
DTSTART:20070101T000000
TZOFFSETFROM:-0500
TZOFFSETTO:-0400
TZNAME:Eastern Daylight Time
END:DAYLIGHT
BEGIN:STANDARD
RRULE:FREQ=YEARLY;BYMONTH=11;BYDAY=1SU
DTSTART:20070101T000000
TZOFFSETFROM:-0400
TZOFFSETTO:-0500
TZNAME:Eastern Standard Time
END:STANDARD
END:VTIMEZONE
BEGIN:VEVENT
DTSTART;TZID=America/New_York:20261015T180000
DTEND;TZID=America/New_York:20261015T193000
X-MICROSOFT-CDO-ALLDAYEVENT:FALSE
SUMMARY:2026 October Real Estate Development Council Seminar
DESCRIPTION:Registration opens October 1st! More info coming soon!\nThank you to our Real Estate Development Council Title Sponsor\, Sciame Homes!
X-ALT-DESC;FMTTYPE=text/html:<!DOCTYPE html><html><head><title></title></head><body aria-disabled="false"><p><em><span style="font-family: Tahoma\,Geneva\,sans-serif\;">Registration opens October 1st! More info coming soon!</span></em></p><p><br></p><p><span style='color: rgb(51\, 51\, 51)\; font-family: "Instrument Sans"\, sans-serif\; font-size: 19px\; font-style: normal\; font-variant-ligatures: normal\; font-variant-caps: normal\; font-weight: 400\; letter-spacing: normal\; orphans: 2\; text-align: start\; text-indent: 0px\; text-transform: none\; widows: 2\; word-spacing: 0px\; -webkit-text-stroke-width: 0px\; white-space: normal\; background-color: rgb(255\, 255\, 255)\; text-decoration-thickness: initial\; text-decoration-style: initial\; text-decoration-color: initial\; display: inline !important\; float: none\;'>Thank you to our Real Estate Development Council Title Sponsor\, Sciame Homes!</span> </p></body></html>
LOCATION:Palm Beach FL
UID:e.4263.1424897
SEQUENCE:3
DTSTAMP:20260421T023937Z
URL:https://members.palmbeachchamber.com/eventcalendar/Details/2026-october-real-estate-development-council-seminar-1684845?sourceTypeId=Hub
END:VEVENT
END:VCALENDAR
