BEGIN:VCALENDAR
VERSION:2.0
PRODID:-//ChamberMaster//Event Calendar 2.0//EN
METHOD:PUBLISH
X-PUBLISHED-TTL:P1H
REFRESH-INTERVAL:P1H
CALSCALE:GREGORIAN
BEGIN:VTIMEZONE
TZID:America/New_York
BEGIN:DAYLIGHT
RRULE:FREQ=YEARLY;BYMONTH=3;BYDAY=2SU
DTSTART:20070101T000000
TZOFFSETFROM:-0500
TZOFFSETTO:-0400
TZNAME:Eastern Daylight Time
END:DAYLIGHT
BEGIN:STANDARD
RRULE:FREQ=YEARLY;BYMONTH=11;BYDAY=1SU
DTSTART:20070101T000000
TZOFFSETFROM:-0400
TZOFFSETTO:-0500
TZNAME:Eastern Standard Time
END:STANDARD
END:VTIMEZONE
BEGIN:VEVENT
DTSTART;TZID=America/New_York:20261110T113000
DTEND;TZID=America/New_York:20261110T130000
X-MICROSOFT-CDO-ALLDAYEVENT:FALSE
SUMMARY:2026 November Women's Leadership Council Luncheon
DESCRIPTION:Registration opens on September 29th! More info coming soon!\nThank you to our Women's Leadership Council Title Sponsor\, Nicklaus Children's Health System! Thank you\, also\, to our Official Women's Leadership Council Floral Sponsor\, Wellington Florist!
X-ALT-DESC;FMTTYPE=text/html:<!DOCTYPE html><html><head><title></title></head><body aria-disabled="false"><p><em><span style="font-family: Tahoma\,Geneva\,sans-serif\;">Registration opens on September 29th! More info coming soon!</span></em></p><p><br></p><p><span style="font-family: Tahoma\,Geneva\,sans-serif\;">Thank you to our Women&#39\;s Leadership Council Title Sponsor\, Nicklaus Children&#39\;s Health System! Thank you\, also\, to our Official Women&#39\;s Leadership Council Floral Sponsor\, Wellington Florist!</span></p></body></html>
LOCATION:155 Hammon Avenue Palm Beach FL 33480
UID:e.4263.1424922
SEQUENCE:3
DTSTAMP:20260421T024613Z
URL:https://members.palmbeachchamber.com/eventcalendar/Details/2026-november-women-s-leadership-council-luncheon-1684916?sourceTypeId=Hub
END:VEVENT
END:VCALENDAR
