BEGIN:VCALENDAR
VERSION:2.0
PRODID:-//ChamberMaster//Event Calendar 2.0//EN
METHOD:PUBLISH
X-PUBLISHED-TTL:P1H
REFRESH-INTERVAL:P1H
CALSCALE:GREGORIAN
BEGIN:VTIMEZONE
TZID:America/New_York
BEGIN:DAYLIGHT
RRULE:FREQ=YEARLY;BYMONTH=3;BYDAY=2SU
DTSTART:20070101T000000
TZOFFSETFROM:-0500
TZOFFSETTO:-0400
TZNAME:Eastern Daylight Time
END:DAYLIGHT
BEGIN:STANDARD
RRULE:FREQ=YEARLY;BYMONTH=11;BYDAY=1SU
DTSTART:20070101T000000
TZOFFSETFROM:-0400
TZOFFSETTO:-0500
TZNAME:Eastern Standard Time
END:STANDARD
END:VTIMEZONE
BEGIN:VEVENT
DTSTART;TZID=America/New_York:20261104T180000
DTEND;TZID=America/New_York:20261104T193000
X-MICROSOFT-CDO-ALLDAYEVENT:FALSE
SUMMARY:2026 November Tech Business Council Seminar
DESCRIPTION:Join us for the November Tech Business Council Seminar\, an event designed to advance innovation\, collaboration\, and technological excellence within our business community. This program brings together leaders\, innovators\, and professionals to explore cutting-edge solutions\, promote digital literacy\, and create meaningful connections that drive sustainable growth. By fostering dialogue and sharing expertise\, the Council empowers local enterprises to stay competitive in today's rapidly evolving global landscape.Disclaimer:Please note that all Chamber events are photographed and/or recorded. By attending\, you consent to your image being used in Chamber publications\, on our website\, and across our digital and print platforms for promotional purposes.
X-ALT-DESC;FMTTYPE=text/html:<!DOCTYPE html><html><head><title></title></head><body aria-disabled="false"><p>Join us for the November Tech Business Council Seminar\, an event designed to advance innovation\, collaboration\, and technological excellence within our business community. This program brings together leaders\, innovators\, and professionals to explore cutting-edge solutions\, promote digital literacy\, and create meaningful connections that drive sustainable growth. By fostering dialogue and sharing expertise\, the Council empowers local enterprises to stay competitive in today&rsquo\;s rapidly evolving global landscape.</p><p>Disclaimer:</p><p>Please note that all Chamber events are photographed and/or recorded. By attending\, you consent to your image being used in Chamber publications\, on our website\, and across our digital and print platforms for promotional purposes.</p></body></html>
LOCATION:Palm Beach FL
UID:e.4263.1424919
SEQUENCE:3
DTSTAMP:20260421T024226Z
URL:https://members.palmbeachchamber.com/eventcalendar/Details/2026-november-tech-business-council-seminar-1684913?sourceTypeId=Hub
END:VEVENT
END:VCALENDAR
