BEGIN:VCALENDAR
VERSION:2.0
PRODID:-//ChamberMaster//Event Calendar 2.0//EN
METHOD:PUBLISH
X-PUBLISHED-TTL:P1H
REFRESH-INTERVAL:P1H
CALSCALE:GREGORIAN
BEGIN:VTIMEZONE
TZID:America/New_York
BEGIN:DAYLIGHT
RRULE:FREQ=YEARLY;BYMONTH=3;BYDAY=2SU
DTSTART:20070101T000000
TZOFFSETFROM:-0500
TZOFFSETTO:-0400
TZNAME:Eastern Daylight Time
END:DAYLIGHT
BEGIN:STANDARD
RRULE:FREQ=YEARLY;BYMONTH=11;BYDAY=1SU
DTSTART:20070101T000000
TZOFFSETFROM:-0400
TZOFFSETTO:-0500
TZNAME:Eastern Standard Time
END:STANDARD
END:VTIMEZONE
BEGIN:VEVENT
DTSTART;TZID=America/New_York:20261112T173000
DTEND;TZID=America/New_York:20261112T193000
X-MICROSOFT-CDO-ALLDAYEVENT:FALSE
SUMMARY:2026 November PBYP Social
DESCRIPTION:Registration opens on October 29th!
X-ALT-DESC;FMTTYPE=text/html:<!DOCTYPE html><html><head><title></title></head><body aria-disabled="false"><p><em><span style="font-family: Tahoma\,Geneva\,sans-serif\;">Registration opens on October 29th!</span></em></p></body></html>
LOCATION:Palm Beach FL
UID:e.4263.1424941
SEQUENCE:3
DTSTAMP:20260421T024049Z
URL:https://members.palmbeachchamber.com/eventcalendar/Details/2026-november-pbyp-social-1684959?sourceTypeId=Hub
END:VEVENT
END:VCALENDAR
