BEGIN:VCALENDAR
VERSION:2.0
PRODID:-//ChamberMaster//Event Calendar 2.0//EN
METHOD:PUBLISH
X-PUBLISHED-TTL:P1H
REFRESH-INTERVAL:P1H
CALSCALE:GREGORIAN
BEGIN:VTIMEZONE
TZID:America/New_York
BEGIN:DAYLIGHT
RRULE:FREQ=YEARLY;BYMONTH=3;BYDAY=2SU
DTSTART:20070101T000000
TZOFFSETFROM:-0500
TZOFFSETTO:-0400
TZNAME:Eastern Daylight Time
END:DAYLIGHT
BEGIN:STANDARD
RRULE:FREQ=YEARLY;BYMONTH=11;BYDAY=1SU
DTSTART:20070101T000000
TZOFFSETFROM:-0400
TZOFFSETTO:-0500
TZNAME:Eastern Standard Time
END:STANDARD
END:VTIMEZONE
BEGIN:VEVENT
DTSTART;TZID=America/New_York:20261118T090000
DTEND;TZID=America/New_York:20261118T100000
X-MICROSOFT-CDO-ALLDAYEVENT:FALSE
SUMMARY:2026 November In-Person Member Orientation
DESCRIPTION:Join us IN PERSON this month and find out about all the great opportunities that the Palm Beach Chamber of Commerce has to offer our members. Whether you are thinking about joining\, just joined\, or want a recap of what you get with your membership\, this is the event for you!Disclaimer:Please note that all Chamber events are photographed and/or recorded. By attending\, you consent to your image being used in Chamber publications\, on our website\, and across our digital and print platforms for promotional purposes.
X-ALT-DESC;FMTTYPE=text/html:<!DOCTYPE html><html><head><title></title></head><body aria-disabled="false"><p>Join us IN PERSON this month and find out about all the great opportunities that the Palm Beach Chamber of Commerce has to offer our members. Whether you are thinking about joining\, just joined\, or want a recap of what you get with your membership\, this is the event for you!</p><p>Disclaimer:</p><p>Please note that all Chamber events are photographed and/or recorded. By attending\, you consent to your image being used in Chamber publications\, on our website\, and across our digital and print platforms for promotional purposes.</p></body></html>
LOCATION:777 South Flagler Drive Suite 1900\, West Tower West Palm Beach FL 33401
UID:e.4263.1423630
SEQUENCE:3
DTSTAMP:20260421T024421Z
URL:https://members.palmbeachchamber.com/eventcalendar/Details/2026-november-in-person-member-orientation-1683291?sourceTypeId=Hub
END:VEVENT
END:VCALENDAR
