BEGIN:VCALENDAR
VERSION:2.0
PRODID:-//ChamberMaster//Event Calendar 2.0//EN
METHOD:PUBLISH
X-PUBLISHED-TTL:P1H
REFRESH-INTERVAL:P1H
CALSCALE:GREGORIAN
BEGIN:VTIMEZONE
TZID:America/New_York
BEGIN:DAYLIGHT
RRULE:FREQ=YEARLY;BYMONTH=3;BYDAY=2SU
DTSTART:20070101T000000
TZOFFSETFROM:-0500
TZOFFSETTO:-0400
TZNAME:Eastern Daylight Time
END:DAYLIGHT
BEGIN:STANDARD
RRULE:FREQ=YEARLY;BYMONTH=11;BYDAY=1SU
DTSTART:20070101T000000
TZOFFSETFROM:-0400
TZOFFSETTO:-0500
TZNAME:Eastern Standard Time
END:STANDARD
END:VTIMEZONE
BEGIN:VEVENT
DTSTART;TZID=America/New_York:20261210T180000
DTEND;TZID=America/New_York:20261210T193000
X-MICROSOFT-CDO-ALLDAYEVENT:FALSE
SUMMARY:2026 December Business + PBYP Holiday Party
DESCRIPTION:Celebrate the season with us at the annual Business & PBYP Holiday Party! Join fellow business members and young professionals for a festive evening of connection\, conversation\, and holiday cheer. It's the perfect opportunity to unwind\, toast to a successful year\, and enjoy the company of Palm Beach's vibrant professional community in one of the island's most iconic settings.
X-ALT-DESC;FMTTYPE=text/html:<!DOCTYPE html><html><head><title></title></head><body aria-disabled="false"><p><span style="color: rgb(118\, 118\, 118)\; font-family: Tahoma\, Geneva\, sans-serif\; font-size: 18px\; font-style: normal\; font-variant-ligatures: normal\; font-variant-caps: normal\; font-weight: 400\; letter-spacing: 0.5px\; orphans: 2\; text-align: start\; text-indent: 0px\; text-transform: none\; widows: 2\; word-spacing: 0px\; -webkit-text-stroke-width: 0px\; white-space: normal\; background-color: rgb(255\, 255\, 255)\; text-decoration-thickness: initial\; text-decoration-style: initial\; text-decoration-color: initial\; float: none\; display: inline !important\;">Celebrate the season with us at the annual Business &amp\; PBYP Holiday Party! Join fellow business members and young professionals for a festive evening of connection\, conversation\, and holiday cheer. It&rsquo\;s the perfect opportunity to unwind\, toast to a successful year\, and enjoy the company of Palm Beach&rsquo\;s vibrant professional community in one of the island&rsquo\;s most iconic settings. </span></p></body></html>
LOCATION:Palm Beach FL
UID:e.4263.1424956
SEQUENCE:3
DTSTAMP:20260421T024543Z
URL:https://members.palmbeachchamber.com/eventcalendar/Details/2026-december-business-pbyp-holiday-party-1685005?sourceTypeId=Hub
END:VEVENT
END:VCALENDAR
